BEGIN:VCALENDAR
VERSION:2.0
PRODID:-//grepOra - ECPv6.15.20//NONSGML v1.0//EN
CALSCALE:GREGORIAN
METHOD:PUBLISH
X-ORIGINAL-URL:https://grepora.com
X-WR-CALDESC:Events for grepOra
REFRESH-INTERVAL;VALUE=DURATION:PT1H
X-Robots-Tag:noindex
X-PUBLISHED-TTL:PT1H
BEGIN:VTIMEZONE
TZID:Europe/Berlin
BEGIN:DAYLIGHT
TZOFFSETFROM:+0100
TZOFFSETTO:+0200
TZNAME:CEST
DTSTART:20190331T010000
END:DAYLIGHT
BEGIN:STANDARD
TZOFFSETFROM:+0200
TZOFFSETTO:+0100
TZNAME:CET
DTSTART:20191027T010000
END:STANDARD
BEGIN:DAYLIGHT
TZOFFSETFROM:+0100
TZOFFSETTO:+0200
TZNAME:CEST
DTSTART:20200329T010000
END:DAYLIGHT
BEGIN:STANDARD
TZOFFSETFROM:+0200
TZOFFSETTO:+0100
TZNAME:CET
DTSTART:20201025T010000
END:STANDARD
BEGIN:DAYLIGHT
TZOFFSETFROM:+0100
TZOFFSETTO:+0200
TZNAME:CEST
DTSTART:20210328T010000
END:DAYLIGHT
BEGIN:STANDARD
TZOFFSETFROM:+0200
TZOFFSETTO:+0100
TZNAME:CET
DTSTART:20211031T010000
END:STANDARD
BEGIN:DAYLIGHT
TZOFFSETFROM:+0100
TZOFFSETTO:+0200
TZNAME:CEST
DTSTART:20220327T010000
END:DAYLIGHT
BEGIN:STANDARD
TZOFFSETFROM:+0200
TZOFFSETTO:+0100
TZNAME:CET
DTSTART:20221030T010000
END:STANDARD
END:VTIMEZONE
BEGIN:VTIMEZONE
TZID:UTC
BEGIN:STANDARD
TZOFFSETFROM:+0000
TZOFFSETTO:+0000
TZNAME:UTC
DTSTART:20190101T000000
END:STANDARD
END:VTIMEZONE
BEGIN:VEVENT
DTSTART;TZID=Europe/Berlin:20210224T110000
DTEND;TZID=Europe/Berlin:20210224T120000
DTSTAMP:20260423T123257
CREATED:20201026T201623Z
LAST-MODIFIED:20210307T193816Z
UID:14840-1614164400-1614168000@grepora.com
SUMMARY:DOAG Development Online Event: EBR Order Exception Handling
DESCRIPTION:From: https://www.doag.org/de/eventdetails?tx_doagevents_single%5Bid%5D=602086 \nThema: EBR oder Exception Handling \nReferent: Sven Weller \nWir haben das Anmeldeverfahren für Sie vereinfacht. \nBitte melden Sie Ihre Teilnahme direkt über GoToWebinar an: attendee.gotowebinar.com \nWebinar-ID: 615-780-483
URL:https://grepora.com/event/doag-development-online-event-ebr-oder-exception-handling/
CATEGORIES:Community,Europe,German,Online,Webinar
END:VEVENT
BEGIN:VEVENT
DTSTART;TZID=Europe/Berlin:20210223T163000
DTEND;TZID=Europe/Berlin:20210223T173000
DTSTAMP:20260423T123257
CREATED:20210207T192127Z
LAST-MODIFIED:20210330T164811Z
UID:15490-1614097800-1614101400@grepora.com
SUMMARY:Extreme Scalability and Enhanced Resilience for Oracle Integration
DESCRIPTION:Learn how Oracle Integration can scale to support the most demanding applications and discover what the future holds for performance and scalability in OIC. We will discuss a customer who reached 1m messages an hour and talk about how future enhancements will allow even higher throughput. We will also discuss how to meet business continuance requirements by using a customer managed DR solution and talk about existing high availability in  OIC. \nSpeaker: Antony Reynolds\nSchedule: Tuesday February 23rd 16:30 – 17:30 CET (Berlin time)
URL:https://grepora.com/event/extreme-scalability-and-enhanced-resilience-for-oracle-integration/
CATEGORIES:German,Live,Online,Oracle,Webinar
END:VEVENT
BEGIN:VEVENT
DTSTART;TZID=Europe/Berlin:20210216T110000
DTEND;TZID=Europe/Berlin:20210216T120000
DTSTAMP:20260423T123257
CREATED:20210207T191540Z
LAST-MODIFIED:20210330T164653Z
UID:15486-1613473200-1613476800@grepora.com
SUMMARY:Oracle Integration Update Webcast
DESCRIPTION:Integration – Foundation for digital business \nAttend this webcast to accelerate your digital transformation with pre-integrated connectivity to Oracle as\nwell as third-party SaaS and on-premises apps\, run-ready process automation templates\, and an intuitive visual app builder. \nTopics of the February edition include: \n• February Oracle Integration Release update\n• Boxfusion Customer Success story\n• Integration Insight \nSchedule: February 16th[masked]:00 – 12:00 CET (Berlin) \nFor details please visit the registration page here: \nhttps://go.oracle.com/LP=105790?elqCampaignId=283273&src1=:em:lw:ie:cpo::Kress
URL:https://grepora.com/event/oracle-integration-update-webcast/
CATEGORIES:German,Live,Online,Oracle,Webinar
END:VEVENT
BEGIN:VEVENT
DTSTART;TZID=Europe/Berlin:20210127T110000
DTEND;TZID=Europe/Berlin:20210127T120000
DTSTAMP:20260423T123257
CREATED:20201026T200850Z
LAST-MODIFIED:20210307T193540Z
UID:14837-1611745200-1611748800@grepora.com
SUMMARY:DOAG Development Online Event: Polymorphic Table Functions
DESCRIPTION:From: https://www.doag.org/de/eventdetails?tx_doagevents_single%5Bid%5D=602082 \nThema: Polymorphic Table Functions \nReferent: Robert Marz\, Databee – Die IT-Architekten \nWir haben das Anmeldeverfahren für Sie vereinfacht.\n \nBitte melden Sie Ihre Teilnahme direkt über GoToWebinar an: attendee.gotowebinar.com \nWebinar-ID: 779-064-979
URL:https://grepora.com/event/doag-development-online-event-polymorphic-table-functions/
CATEGORIES:Community,Europe,German,Online,Webinar
END:VEVENT
BEGIN:VEVENT
DTSTART;TZID=Europe/Berlin:20210108T070000
DTEND;TZID=Europe/Berlin:20210108T080000
DTSTAMP:20260423T123257
CREATED:20201026T200625Z
LAST-MODIFIED:20210307T194842Z
UID:14833-1610089200-1610092800@grepora.com
SUMMARY:Datenbank Online-Event: Durch die Dornen zu den Sternen: Migration von Oracle nach Postgres
DESCRIPTION:From: https://register.gotowebinar.com/register/6779806810633354254 \nMigration wie auch jede Veränderung ist die große Herausforderung. Wenn Unternehmen sich für die Migration von Oracle nach Postgres entscheiden\, müssen diese gut vorbereitet sein. Organisatorisch müssen einige Aufgaben erledigt werden: – Neue Betriebskonzepte müssen erstellt werden – Personal soll sich mit der neuen Datenbank vertraut machen. Die Migration soll gut geplant und bestens vorbereitet werden. Als erstes sollen die möglichen Kandidaten für eine Migration nominiert werden. Die Migration der gesamten Oracle Datenbank macht wenig Sinn\, da die interne Datenbank-Verwaltungsobjekte nicht migriert werden müssen. Relevant für eine Migration sind Kunden-spezifischen Daten\, Anwendungen und User-Objekte. Am besten gruppiert man diese in logischen Einheiten\, wie etwa ein Schema oder eine Anwendung und migriert diese nach Postgres. Danach sollen zu migrierenden Datenbank Objekte wie etwa Tabellen\, Indexes\, Funktionen\, Packages und stored Procedures analysiert und angepasst werden. Folgende Herausforderungen sollen dabei bewältigt werden: – Erkennung und Beseitigung von Syntax Unterschieden – Konvertierung von Datentypen von Oracle nach Postgres – Lösung von Kompatibilitätsproblemen Wenn all diese Hürden genommen sind und Datenbank Objekte in der Postgres erstellt sind\, kommt eine neue Aufgabe auf uns zu: Daten Migration. In diesem Webinar werden notwendige Schritte erläutert\, die notwendig sind\, eine Migration von Oracle nach Postgres\, einfach und problemlos zu gestalten. Ich gebe einen Überblick über die Werkzeuge\, die die Konvertierung von Objekten vereinfachen. Ich erkläre\, wie Daten von Oracle nach Postgres unter der Voraussetzung des Minimal-Downtime-Ansatzes migriert werden können. In einer Demo spiele ich eine Migration vor. Dabei löse ich einige Probleme und anschließend migriere Daten.
URL:https://grepora.com/event/datenbank-online-event-durch-die-dornen-zu-den-sternen-migration-von-oracle-nach-postgres/
CATEGORIES:Europe,German,Online,Oracle
END:VEVENT
BEGIN:VEVENT
DTSTART;TZID=Europe/Berlin:20201211T070000
DTEND;TZID=Europe/Berlin:20201211T080000
DTSTAMP:20260423T123257
CREATED:20201026T200150Z
LAST-MODIFIED:20210307T194904Z
UID:14829-1607670000-1607673600@grepora.com
SUMMARY:DB Online-Event: Mit der richtigen Verbindung zum optimalen Betrieb: Ihre Datenbank in der Oracle Cloud (OCI)
DESCRIPTION:From: https://register.gotowebinar.com/register/7522992001669425153 \nErfüllt die Infrastruktur in Ihrem Unternehmen die Anforderungen für eine Verlagerung von Datenbank-Applikationen in die Cloud? In unserem Webinar zeigen wir warum sichere\, dedizierte Cloud Verbindungen von grundlegender Bedeutung für Sie sind. Frank Radde\, Senior Sales Engineer DACH bei Colt und Experte für Cloud-Lösungen\, stellt vor: – Die Herausforderungen bei der Migration einer Datenbank in die Oracle Cloud Infrastructure (OCI) – Warum die Auswahl der richtigen Netzwerkinfrastruktur für die erfolgreiche Nutzung der Cloud so wichtig ist – Der Trend zu Multi-Cloud-Implementierungen – Wie Sie mit On-Demand Lösungen die Cloud noch flexibler nutzen. Colt bietet als Gold-Mitglied und Fast Connect Partner im Oracle Partner Network (OPN) über Colt Dedicated Cloud Access (DCA) sichere\, schnelle und zuverlässige Netzwerkverbindungen zur Oracle Cloud. Unternehmen können somit ihre Standorte\, eigene Rechenzentren oder Colocation-Umgebungen mit der Oracle Cloud verbinden\, auf Wunsch auch On-Demand. DCA Services werden über das Colt-eigene Glasfasernetz IQ Network in Europa\, Asien und Nordamerika ermöglicht.
URL:https://grepora.com/event/db-online-event-mit-der-richtigen-verbindung-zum-optimalen-betrieb-ihre-datenbank-in-der-oracle-cloud-oci/
CATEGORIES:Community,Europe,German,Online
END:VEVENT
BEGIN:VEVENT
DTSTART;VALUE=DATE:20201207
DTEND;VALUE=DATE:20201211
DTSTAMP:20260423T123257
CREATED:20200728T180729Z
LAST-MODIFIED:20210307T194941Z
UID:14100-1607299200-1607644799@grepora.com
SUMMARY:Frankfurt IT Tage 2020
DESCRIPTION:
URL:https://grepora.com/event/frankfurt-it-tage-2020/
CATEGORIES:Community,English,Europe,German,Online
END:VEVENT
BEGIN:VEVENT
DTSTART;VALUE=DATE:20201202
DTEND;VALUE=DATE:20201204
DTSTAMP:20260423T123257
CREATED:20201026T195859Z
LAST-MODIFIED:20201026T195859Z
UID:14825-1606867200-1607039999@grepora.com
SUMMARY:BERLINER EXPERTENSEMINAR ZUM THEMA JAVA AFTER EIGHT MIT NICOLAI PARLOG
DESCRIPTION:From: https://www.doag.org/de/eventdetails?tx_doagevents_single%5Bid%5D=603090 \nKursüberblick: \nIn diesem Kurs werden die Java-Versionen 9 bis 15 beleuchtet. Dabei liegt der Fokus auf neuen Sprachfeatures wie Sealed Classes\, Records\, Text Blocks\, switch Expressions und var\, aber auch neue und erweiterte APIs sowie JVM- und Performance-Verbesserungen werden theoretisch vorgestellt und mit praktischen Übungen untermauert. Darüber hinaus werden auch der Migrationspfad von Java 8 zu 11 bzw. 15\, der neue Release-Zyklus und die aktuelle Situation um Distributionen und Support besprochen. \nZielgruppe: \nErfahrene Java-Entwickler\, die sich theoretisch und praktisch auf die neuen Java-Versionen vorbereiten möchten. \nVoraussetzungen: \nEinige Jahre praktische Erfahrung mit Java-Entwicklung und sicherere Java-8-Kenntnisse. \nKursziele: \nNach Abschluss des Kurses werden Teilnehmer in der Lage sein: \n\neine Migration von Java 8 zu den aktuellen Versionen 11 oder 15 zu beurteilen\neine zum Projekt passende Update-Strategie und JDK-Distribution auszuwählen\nunter Einsatz neuer Sprachfeatures besser wartbaren Code zu schreiben\nneue und verbesserte APIs produktiv anzuwenden\nneue JVM-Features zur Verbesserung und Bereicherung ihrer Projekte einzusetzen\n\nKursinhalt: \n\nMigration\, Release-Zyklus\, Distributionen und Support\nneue Sprachfeatures wie Sealed Classes\, Records\, Text Blocks\, switch Expressions und var\nneue APIs wie Collection Factories\naktualisierte APIs wie String\, Stream und Optional\nneue JVM-Features wie Skript-Support und Multi-Release JARs\nPerformance-Verbesserungen wie Application Class-Data Sharin
URL:https://grepora.com/event/berliner-expertenseminar-zum-thema-java-after-eight-mit-nicolai-parlog/
CATEGORIES:Community,Europe,German,InPerson
END:VEVENT
BEGIN:VEVENT
DTSTART;TZID=Europe/Berlin:20201126T110000
DTEND;TZID=Europe/Berlin:20201126T120000
DTSTAMP:20260423T123257
CREATED:20201126T135324Z
LAST-MODIFIED:20201126T135354Z
UID:15034-1606388400-1606392000@grepora.com
SUMMARY:Thema: RESTful Services mit dem ORDS
DESCRIPTION:From: https://www.doag.org/de/eventdetails?tx_doagevents_single%5Bid%5D=603893 \nReferent: Rainer Willems\, ORACLE Deutschland B.V. & Co. KG \nDas Produkt ORDS (Oracle REST Data Services) dürfte vuielen als Listener für APEX-Anwendungen ein Begriff sein. Mit dem ORDS lassen sich aber auch moderne REST-Schnittstellen für relationale Daten in der Datenbank oder auch für JSON-Dokumente in der Datenbbank zur Verfügung stellen. Als Mid-Tier-Java-Anwendung ordnet ORDS den verschiednen HTTP-Verbs Datenbankaktionen zu und gibt JSON-Dokumente zurück. Hierbei kommt auch APEX wieder ins Spiel\, kann APEX doch auch als Entwicklungsfrontend und Client für dieses Services fungieren.  Neben einem Überblick über die Möglichkeiten wird in dieser Session das Thema auch anhand kleiner Beispiele vorgestellt. Mit und ohne APEX. \nWir haben das Anmeldeverfahren für Sie vereinfacht. \nBitte melden Sie Ihre Teilnahme direkt über GoToWebinar an: attendee.gotowebinar.com \nWebinar-ID: 616-984-939
URL:https://grepora.com/event/thema-restful-services-mit-dem-ords/
CATEGORIES:Community,Europe,German,Online
END:VEVENT
BEGIN:VEVENT
DTSTART;VALUE=DATE:20201126
DTEND;VALUE=DATE:20201127
DTSTAMP:20260423T123257
CREATED:20201026T195442Z
LAST-MODIFIED:20201026T195442Z
UID:14821-1606348800-1606435199@grepora.com
SUMMARY:DOAG DEVELOPMENT ONLINE-EVENT: RESTFUL SERVICES MIT DEM ORDS
DESCRIPTION:From: https://www.doag.org/de/eventdetails?tx_doagevents_single%5Bid%5D=603893 \nDas Produkt ORDS (Oracle REST Data Services) dürfte vuielen als Listener für APEX-Anwendungen ein Begriff sein. Mit dem ORDS lassen sich aber auch moderne REST-Schnittstellen für relationale Daten in der Datenbank oder auch für JSON-Dokumente in der Datenbbank zur Verfügung stellen. Als Mid-Tier-Java-Anwendung ordnet ORDS den verschiednen HTTP-Verbs Datenbankaktionen zu und gibt JSON-Dokumente zurück. Hierbei kommt auch APEX wieder ins Spiel\, kann APEX doch auch als Entwicklungsfrontend und Client für dieses Services fungieren.  Neben einem Überblick über die Möglichkeiten wird in dieser Session das Thema auch anhand kleiner Beispiele vorgestellt. Mit und ohne APEX. \nWir haben das Anmeldeverfahren für Sie vereinfacht. \nBitte melden Sie Ihre Teilnahme direkt über GoToWebinar an: attendee.gotowebinar.com \nWebinar-ID: 616-984-939
URL:https://grepora.com/event/doag-development-online-event-restful-services-mit-dem-ords/
CATEGORIES:Community,Europe,German,Online,Webinar
END:VEVENT
BEGIN:VEVENT
DTSTART;VALUE=DATE:20201117
DTEND;VALUE=DATE:20201120
DTSTAMP:20260423T123257
CREATED:20200529T160755Z
LAST-MODIFIED:20200728T165241Z
UID:13189-1605571200-1605830399@grepora.com
SUMMARY:DOAG Conference (Online)
DESCRIPTION:More info: https://www.doag.org/de/home/
URL:https://grepora.com/event/doag-conference-online/
CATEGORIES:English,Europe,German,Online
END:VEVENT
BEGIN:VEVENT
DTSTART;VALUE=DATE:20201117
DTEND;VALUE=DATE:20201120
DTSTAMP:20260423T123257
CREATED:20201026T195136Z
LAST-MODIFIED:20201026T195136Z
UID:14818-1605571200-1605830399@grepora.com
SUMMARY:DOAG 2020 KONFERENZ + AUSSTELLUNG
DESCRIPTION:From: https://2020.doag.org/de/home/ \nDie DOAG Konferenz + Ausstellung ist die führende Konferenz mit Fokus auf Oracle-Technologien im deutschsprachigen Raum. Mit ihrer langjährigen Tradition und ihrem tiefen Verständnis für moderne Informationstechnologie unterstützt unsere Community Entwickler\, Administratoren und technische Entscheider dabei\, ihren Beruf in unserer agilen Welt erfolgreich zu meistern. Für einen optimalen Erfahrungsaustausch ihrer Teilnehmer behandelt die Weiterbildungsplattform deshalb auch verwandte Technologien\, Open-Source\, aktuelle Trends und Methoden sowie Softskills-Themen. \n\n\nDie DOAG 2020 Konferenz + Ausstellung wird vom 17. bis 19. November 2020 als moderierte Online-Konferenz stattfinden. \nAufgrund der derzeitigen Corona-Lage mussten wir uns schweren Herzens dazu entscheiden\, das hybride Konzept der Veranstaltung erheblich anzupassen: Die Veranstaltung wird nun als moderierte Online-Konferenz stattfinden. In Nürnberg wird unser TV-Studio eingerichtet\, von dem aus das gesamte Event durchgehend moderiert wird. Hier finden zudem einige ausgewählte Vorträge statt\, die parallel gestreamt werden. Wer möchte\, kann auf Wunsch als Studiogast vor Ort teilnehmen.
URL:https://grepora.com/event/doag-2020-konferenz-ausstellung/
CATEGORIES:Community,Europe,German,Online
END:VEVENT
BEGIN:VEVENT
DTSTART;VALUE=DATE:20201117
DTEND;VALUE=DATE:20201220
DTSTAMP:20260423T123257
CREATED:20201026T194411Z
LAST-MODIFIED:20201026T194411Z
UID:14814-1605571200-1608422399@grepora.com
SUMMARY:DOAG 2020 KONFERENZ + AUSSTELLUNG: ANMELDUNG SPONSOREN/AUSSTELLER
DESCRIPTION:
URL:https://grepora.com/event/doag-2020-konferenz-ausstellung-anmeldung-sponsoren-aussteller/
CATEGORIES:Europe,German,InPerson,Oracle
END:VEVENT
BEGIN:VEVENT
DTSTART;TZID=Europe/Berlin:20201113T070000
DTEND;TZID=Europe/Berlin:20201113T080000
DTSTAMP:20260423T123257
CREATED:20201026T193626Z
LAST-MODIFIED:20210307T195020Z
UID:14809-1605250800-1605254400@grepora.com
SUMMARY:DOAG DATENBANK ONLINE-EVENT: ORACLE 12C R2 RAC UPDATE NACH 19C – Ein Erfahrungsbericht
DESCRIPTION:From:https://register.gotowebinar.com/register/5336635123429675275 \nEin 8-Knoten Extended Distance RAC mit Oracle 12c Rel.2 auf SUSE Linux Enterprise Server 12 war als Nachfolger eines 11g RACs gerade fertig gestellt. Einige Datenbanken waren auch schon auf diesen neuen Cluster migriert. Da gab es auf Grund von Performance Problemen und der Zertifizierung einer Software die Anforderung\, den RAC auf Oracle 19c zu aktualisieren. Unmittelbar nachdem das On-Premises Release der Oracle Datenbank Version 19c verfügbar war\, wurde dieses Projekt angegangen. Das Patchen und auch Updaten von Oracle Datenbank Software ist in den letzten Jahren doch erheblich unkomplizierter geworden. Insbesondere da die Version 19c innerhalb der 12c Rel.2 Familie ja eigendlich das Sub-Release 12.2.0.3 darstellt sollten dabei doch keine größeren Probleme auftreten. In meinem Vortrag berichte ich vom Ablauf des Updates sowohl der Grid Infrastruktur als auch der Datenbanken von 12c Rel.2 auf 19c. Dabei zeige ich die diversen Hürden auf\, die sich bei Schaffen der Installations- und Updatevoraussetzungen aber auch schon bei der Informationsbeschaffung in den Weg gestellt haben. So haben sich die Dokumente und damit die Informationen in My Oracle Support erst langsam entwickelt. Das Betriebssystem SLES 12 musste von SP2 auf SP3 aktualisiert werden. Auch die Oracle 12c Umgebung hat zuvor nach weiteren Patches verlangt. Welche Hürden noch zu nehmen waren und wie das Ziel erreicht wurde\, wird im Rahmen des Vortrags erläutert werden.
URL:https://grepora.com/event/doag-datenbank-online-event-oracle-12c-r2-rac-update-nach-19c-ein-erfahrungsbericht/
CATEGORIES:Community,Europe,German,Online,Oracle
END:VEVENT
BEGIN:VEVENT
DTSTART;TZID=UTC:20201028T070000
DTEND;TZID=UTC:20201028T080000
DTSTAMP:20260423T123257
CREATED:20201026T192623Z
LAST-MODIFIED:20201026T193756Z
UID:14806-1603868400-1603872000@grepora.com
SUMMARY:DOAG Development Online-Event: Jenkins mit Oracle
DESCRIPTION:From: https://register.gotowebinar.com/register/5527213473872037387 \nIm Rahmen von DevOps wird hier die Zusammenarbeit mit Jenkins als Automatisierungswerkzeug für Oracle aufgegriffen. Von einfachen Jobs bishin zu komplexen Pipelines werden Best Practices und Besonderheiten mit Oracle vorgestellt.
URL:https://grepora.com/event/doag-development-online-event-jenkins-mit-oracle/
CATEGORIES:Community,Europe,German,Online,Oracle
END:VEVENT
BEGIN:VEVENT
DTSTART;VALUE=DATE:20200525
DTEND;VALUE=DATE:20200620
DTSTAMP:20260423T123257
CREATED:20200529T160946Z
LAST-MODIFIED:20200728T160546Z
UID:13192-1590364800-1592611199@grepora.com
SUMMARY:DOAG 2020 DATENBANK ONLINE
DESCRIPTION:DOAG 2020 DATENBANK ONLINE
URL:https://grepora.com/event/doag-2020-datenbank-online-25th-17th/
CATEGORIES:Community,German,Online
END:VEVENT
END:VCALENDAR